BEGIN:VCALENDAR
METHOD:PUBLISH
PRODID:Data::ICal 0.13
VERSION:2.0
BEGIN:VEVENT
DESCRIPTION:[caption id=&quot;attachment_3708769&quot; align=&quot;alignnone&quot; width=&quot;1800&quot;] King Arts Complex[/caption]\n\nThe Heritage Music Festival is back!\nJoin Radio One and the King Arts Complex for the 27th Annual Heritage Music Festival—Thursday evenings now through August! \nThis free event features live music performances, local food trucks, regional vendors, line dancing, and youth activities. It’s fun for the entire family! \nCatch all the vibes at Mayme Moore Park for the 27th Annual Heritage Music Festival—brought to you by Radio One and the King Arts Complex. \nFor more information, visit KingArtsComplex.com! \n\n\n[caption id=&quot;attachment_3709537&quot; align=&quot;alignnone&quot; width=&quot;1800&quot;] Source: King Arts Complex / king arts complex[/caption]\n\n&nbsp;
DTSTAMP:20260424T115635Z
DTSTART;TZID=America/New_York:20250710T000000
DTEND;TZID=America/New_York:20250814T235900
LOCATION:240 Martin Luther King\, JR. Blvd\, Columbus\, OH\, 43203
SUMMARY:27th Annual Heritage Music Festival
UID:3700587-1752105600-1755215940
END:VEVENT
END:VCALENDAR
