BEGIN:VCALENDAR
METHOD:PUBLISH
PRODID:Data::ICal 0.13
VERSION:2.0
BEGIN:VEVENT
DESCRIPTION:[caption id=&quot;attachment_3714033&quot; align=&quot;alignnone&quot; width=&quot;700&quot;] Source: Fame Productions / radio one columbus[/caption]\n\n\nWE&#039;RE BRINGING FUNK IN THE PARK!\n\nThe producers of SUMMER614 are bringing some of your favorite Funk groups to the Columbus Commons! With music, food, drinks and vendors you won&#039;t want to miss it! \n \nVENUE: \nColumbus Commons \n160 S. High St. \nColumbus, Ohio 43215 \n \nPERFORMERS: \nZAPP BAND \nMIDNIGHT STAR  \nKARYN WHITE  \nREADY FOR THE WORLD  \nDJ MIX MASTER ICE  \n \nDOORS: \nDOORS WILL OPEN AT 4PM \n \n\nVIEW TICKET TIERS &amp; PURCHASE ONLINE HERE!\nADDITIONAL TICKET OUTLETS: \nTALIBS: \n1035 E Livingston Ave, Columbus, OH 43205 \n(614) 252-0654 \nLAWSHEAS: \n1488 Morse Rd, Columbus, OH 43224 \n(614) 252-3474 \nB&amp;K SMOKEHOUSE: \n1114 E Main St, Columbus, OH 43205 \n(614) 252-7017 \nOTT BARBER BOUTIQUE: \n4473 Refugee Rd, Columbus, OH \n614) 694-2724 \n\n\n\n\nWhat you can and can’t bring into 614 FUNK FEST: \nOnly Chairs allowed (camping/folding) \n❎ NO Coolers \n❎ NO Tables \n❎ NO Tents \n❎ NO Umbrellas \n❎ NO Blankets \n❎ NO Tarps \n❎ NO Food | Food Trucks will be on site to purchase food \n❎ NO Drinks | Cash bars will be on site to purchase drinks \n \nALL TICKETS ARE NON-REFUNDABLE \nArtist line-up is subject to change. \n&nbsp;\nTHE BENEFITING FOUNDATION: \nThe mission of the 22nd Foundation is to expose and educate low-opportunity youth to diverse sports options as well as a healthy lifestyle through tennis, baseball, golf, lacrosse, and field hockey in a high quality coaching environment while assisting them to achieve their maximum potential on and off the field as they grow to develop leadership, sportsmanship, confidence, discipline, courage, accountability, team work and overall health awareness.
DTSTAMP:20260420T100219Z
DTSTART;TZID=America/New_York:20250809T000000
DTEND;TZID=America/New_York:20250809T000000
LOCATION:160 S. High St.\, Columbus\, OH\, 43215
SUMMARY:3rd ANNUAL 614 FUNK FEST
UID:3714039-1754697600-1754697600
END:VEVENT
END:VCALENDAR
