BEGIN:VCALENDAR
METHOD:PUBLISH
PRODID:Data::ICal 0.13
VERSION:2.0
BEGIN:VEVENT
DESCRIPTION:[caption id=&quot;attachment_2732573&quot; align=&quot;aligncenter&quot; width=&quot;800&quot;] Source: n/a / n/a[/caption]\n\n[caption id=&quot;attachment_2461016&quot; align=&quot;aligncenter&quot; width=&quot;732&quot;] Source: joe daniel price / Getty[/caption]\nColumbusblack.com and Magic 95.5 have teamed up to keep you in the know. If you’re looking to STAY IN THE KNOW or LET THE CITY KNOW, visit us today at \n www.columbusblack.com. \nJoin our mailing list and stay abreast of what our city has to offer. From Relationships and Black-Owned Businesses to Jobs, Events, and more. \nColumbusBlack.com is your resource to get the word out about your business, an event, or career opportunities with your organization. \nEmail us at info@columbusblack.com to get started. \nColumbusBlack.com...When you want to know, about the C-O!
DTSTAMP:20260419T182750Z
DTSTART;TZID=America/New_York:20211108T000000
DTEND;TZID=America/New_York:20220130T235900
LOCATION:Columbus\, Ohio
SUMMARY:Stay in The Know with Columbus Black and Magic 95.5
UID:2732560-1636329600-1643587140
END:VEVENT
END:VCALENDAR
