BEGIN:VCALENDAR
METHOD:PUBLISH
PRODID:Data::ICal 0.13
VERSION:2.0
BEGIN:VEVENT
DESCRIPTION:[caption id=&quot;attachment_2295418&quot; align=&quot;alignnone&quot; width=&quot;418&quot;] Source: City of Columbus / City of Columbus[/caption]\n\nJoin us for a family-filled day of fellowship, food and fun celebrating the rich history of African-American culture. Featuring live music, spoken word and dance. Open to all with free admission.\n\n[anvplayer video=&quot;4263170&quot;]\nStage Sponsored By Community New Direction  See the performance schedule here \n\n\n[caption id=&quot;attachment_2295956&quot; align=&quot;alignnone&quot; width=&quot;300&quot;] Source: Community New Direction / Community New Direction[/caption]\n\n[caption id=&quot;attachment_2297032&quot; align=&quot;alignnone&quot; width=&quot;300&quot;] Source: Columbus State Community College / Columbus State Community College[/caption]\n\nCLICK HERE TO VISIT THE #ONECOMMUNITYWEEK PAGE\n\nStop by our Partner&#039;s In Healing Booths!  Click here for a map of the booths\n\n[caption id=&quot;attachment_2296981&quot; align=&quot;alignleft&quot; width=&quot;218&quot;] Source: East Bridge Academy / East Bridge Academy[/caption]\n\n[caption id=&quot;attachment_2296978&quot; align=&quot;alignleft&quot; width=&quot;300&quot;] Source: Primary One / Primary One[/caption]\n\n[caption id=&quot;attachment_2296408&quot; align=&quot;alignleft&quot; width=&quot;228&quot;] Source: Equitas Heath / Equitas Health[/caption]\n\n[caption id=&quot;attachment_2296428&quot; align=&quot;alignleft&quot; width=&quot;300&quot;] Source: Liberty Mutual Insurance / Liberty Mutual Insurance[/caption]\n\n[caption id=&quot;attachment_2296411&quot; align=&quot;alignleft&quot; width=&quot;236&quot;] Source: Ohio Christian University / Ohio Christian University[/caption]\n\n[caption id=&quot;attachment_2296980&quot; align=&quot;alignleft&quot; width=&quot;269&quot;] Source: Vision Support / Vision Support[/caption]\n\n[caption id=&quot;attachment_2296425&quot; align=&quot;alignleft&quot; width=&quot;184&quot;] Source: CDC / CDC[/caption]\n\n[caption id=&quot;attachment_2296429&quot; align=&quot;alignleft&quot; width=&quot;300&quot;] Source: Expanding Visions Foundation / Expanding Visions Foundation[/caption]\n\n[caption id=&quot;attachment_2296977&quot; align=&quot;alignleft&quot; width=&quot;182&quot;] Source: A+ Arts Academy / A+ Arts Academy[/caption]\n\n&nbsp;\n\n&nbsp;\n\n&nbsp;
DTSTAMP:20260420T085655Z
DTSTART;TZID=America/New_York:20170603T110000
DTEND;TZID=America/New_York:20170603T200000
LOCATION:Long Street
SUMMARY:The African American Cultural Festival: Unity in the Community Presented by The City of Columbus and Radio One
UID:2295416-1496487600-1496520000
END:VEVENT
END:VCALENDAR
